BEGIN:VCALENDAR
VERSION:2.0
PRODID:-//Ahnenforschung.net - ECPv6.15.20//NONSGML v1.0//EN
CALSCALE:GREGORIAN
METHOD:PUBLISH
X-ORIGINAL-URL:https://ahnenforschung.net
X-WR-CALDESC:Veranstaltungen für Ahnenforschung.net
REFRESH-INTERVAL;VALUE=DURATION:PT1H
X-Robots-Tag:noindex
X-PUBLISHED-TTL:PT1H
BEGIN:VTIMEZONE
TZID:Europe/Berlin
BEGIN:DAYLIGHT
TZOFFSETFROM:+0100
TZOFFSETTO:+0200
TZNAME:CEST
DTSTART:20230326T010000
END:DAYLIGHT
BEGIN:STANDARD
TZOFFSETFROM:+0200
TZOFFSETTO:+0100
TZNAME:CET
DTSTART:20231029T010000
END:STANDARD
BEGIN:DAYLIGHT
TZOFFSETFROM:+0100
TZOFFSETTO:+0200
TZNAME:CEST
DTSTART:20240331T010000
END:DAYLIGHT
BEGIN:STANDARD
TZOFFSETFROM:+0200
TZOFFSETTO:+0100
TZNAME:CET
DTSTART:20241027T010000
END:STANDARD
BEGIN:DAYLIGHT
TZOFFSETFROM:+0100
TZOFFSETTO:+0200
TZNAME:CEST
DTSTART:20250330T010000
END:DAYLIGHT
BEGIN:STANDARD
TZOFFSETFROM:+0200
TZOFFSETTO:+0100
TZNAME:CET
DTSTART:20251026T010000
END:STANDARD
END:VTIMEZONE
BEGIN:VEVENT
DTSTART;TZID=Europe/Berlin:20241109T100000
DTEND;TZID=Europe/Berlin:20241109T140000
DTSTAMP:20260425T162648
CREATED:20240322T091702Z
LAST-MODIFIED:20240322T091744Z
UID:3884-1731146400-1731160800@ahnenforschung.net
SUMMARY:Öffnungstag der Stolper Heimatstube in Bonn-Auerberg
DESCRIPTION:Öffnungstag der Stolper Heimatstube \n\n\n\nSamstag\, 9. November 2024 ab 10.00 Uhr \n\n\n\nOrt: An der Josefshöhe 52\, 43117 Bonn-Auerberg
URL:https://ahnenforschung.net/veranstaltung/oeffnungstag-der-stolper-heimatstube-in-bonn-auerberg-5/
CATEGORIES:Stammtisch
END:VEVENT
BEGIN:VEVENT
DTSTART;TZID=Europe/Berlin:20241114T200000
DTEND;TZID=Europe/Berlin:20241114T210000
DTSTAMP:20260425T162648
CREATED:20240322T095607Z
LAST-MODIFIED:20240322T095657Z
UID:3892-1731614400-1731618000@ahnenforschung.net
SUMMARY:(Online) Vortrag: Ist das Wandern wirklich des Müllers Lust? Unstete Berufe in der Frühen Neuzeit - Brandenburgische Genealogische Gesellschaft "Roter Adler" e. V.Ge
DESCRIPTION:Online Event Location:  zoom \n\n\n\nRANDENBURGISCHE GENEALOGISCHE GESELLSCHAFT „ROTER ADLER“ \n\n\n\nOnline-Veranstaltung auf Zoom \n\n\n\nDonnerstag\, 14. November 2024 von 20.00 bis 21.00 Uhr \n\n\n\nIst das Wandern wirklich des Müllers Lust? Unstete Berufe in der Frühen Neuzeit \n\n\n\nReferent: Dr. Gerd-Christian Treutler \n\n\n\nEinladung mit Teilnahmemöglichkeit: \n\n\n\n\nonline Treffen: Ist das Wandern wirklich des Müllers Lust? Unstete Berufe in der Frühen Neuzeit
URL:https://ahnenforschung.net/veranstaltung/online-vortrag-ist-das-wandern-wirklich-des-muellers-lust-unstete-berufe-in-der-fruehen-neuzeit-brandenburgische-genealogische-gesellschaft-roter-adler-e-v/
CATEGORIES:Webkonferenz
END:VEVENT
BEGIN:VEVENT
DTSTART;TZID=Europe/Berlin:20241120T160000
DTEND;TZID=Europe/Berlin:20241120T180000
DTSTAMP:20260425T162648
CREATED:20240322T100058Z
LAST-MODIFIED:20240322T100139Z
UID:3899-1732118400-1732125600@ahnenforschung.net
SUMMARY:Arbeitskreis Familienforschung des Hagener Heimatbundes
DESCRIPTION:Der Arbeitskreis Familienforschung trifft sich an jedem dritten Mittwoch im Monat. Dort werden Forschungen besprochen und vorgestellt. Man kann auf das große Familienarchiv des Heimatbundes zugreifen und Hilfen jeglicher Art zu eigenen Forschungen bekommen.
URL:https://ahnenforschung.net/veranstaltung/arbeitskreis-familienforschung-des-hagener-heimatbundes-7/
LOCATION:Archivturm des WBH\, Eilper Str. 132-136\, 58091 Hagen\, Germany
CATEGORIES:Stammtisch
END:VEVENT
BEGIN:VEVENT
DTSTART;TZID=Europe/Berlin:20241120T190000
DTEND;TZID=Europe/Berlin:20241120T203000
DTSTAMP:20260425T162648
CREATED:20240322T095911Z
LAST-MODIFIED:20240322T095914Z
UID:3895-1732129200-1732134600@ahnenforschung.net
SUMMARY:(Präsenz) Offener Geschichts-Salon Falkensee - Brandenburgische Genealogische Gesellschaft "Roter Adler" e. V.
DESCRIPTION:Mehrgenerationenhaus des ASB\, Ruppiner Str. 15\, 14612 Falkensee\, Deutschland map  \n\n\n\nBRANDENBURGISCHE GENEALOGISCHE GESELLSCHAFT „ROTER ADLER“ e. V. \n\n\n\nPräsenzveranstaltung in Falkensee \n\n\n\nMittwoch\, 20. November 2024 von 19.00 bis 20.30 Uhr \n\n\n\nOffener Geschichtssalon Falkensee \n\n\n\nOrt: Mehrgenerationenhaus des Arbeiter-Samariter-Bundes\, Ruppiner Straße 15\, 14612 Falkensee \n\n\n\nNähere Informationen: https://www.bggroteradler.de/neu-offener-geschichts-salon-falkensee-jeden
URL:https://ahnenforschung.net/veranstaltung/praesenz-offener-geschichts-salon-falkensee-brandenburgische-genealogische-gesellschaft-roter-adler-e-v-2/
LOCATION:Mehrgenerationenhaus des ASB\, Ruppiner Str. 15\, 14612 Falkensee\, Deutschland
CATEGORIES:Seminar
END:VEVENT
BEGIN:VEVENT
DTSTART;TZID=Europe/Berlin:20241122T170000
DTEND;TZID=Europe/Berlin:20241122T210000
DTSTAMP:20260425T162648
CREATED:20240322T100614Z
LAST-MODIFIED:20240322T100740Z
UID:3904-1732294800-1732309200@ahnenforschung.net
SUMMARY:Roland-Werkstatt für Familienforschung - Tipps und Hilfen rund um die Ahnenforschung - Roland zu Dortmund
DESCRIPTION:GENEALOGISCH-HERALDISCHE ARBEITSGEMEINSCHAFT ROLAND ZU DORTMUND \n\n\n\nPräsenzveranstaltung in Dortmund \n\n\n\nFreitag\, 22. November 2024 von 17.00 bis 21.00 Uhr \n\n\n\nRoland-Werkstatt für Familienforschung \n\n\n\nTipps und Hilfen rund um die Genealogie \n\n\n\nOrt: FamilySearch Center Dortmund\, Carl-von-Ossietzky-Straße 5\, 44225 Dortmund-Brünninghausen \n\n\n\nAufgrund der Kooperation der Genealogisch-heraldischen Arbeitsgemeinschaft Roland zu Dortmund e. V. mit dem FamilySearch Center Dortmund wurde die Roland-Werkstatt für Familienforschung zu einem beliebten Ahnenforschertreff mit Teilnehmerinnen und Teilnehmern aus Nah und Fern\, deren familiengeschichtliche Wurzeln in Deutschland\, den ehemaligen deutschen Ostgebieten und im benachbarten Ausland liegen. \n\n\n\nHier kann auch auf Forschungsquellen zugegriffen werden\, die nur in den weltweit über 5.000 FamilySearch Centern einsehbar sind. Dazu kann kostenlos und ohne Abonnement auch in den ansonsten kostenpflichtigen großen genealogischen Internetportalen „Ancestry„\, „MyHeritage“ und „Geneanet“ recherchiert werden. Auch ist es möglich\, während des Werkstatt-Abends das Kirchenbuchportal der Evangelischen Kirchen Deutschlands \, „Archion„\, gratis zu nutzen. Für die eigene Ahnenforschung relevante Digitalisate können heruntergeladen werden. Daher empfiehlt es sich\, einen USB-Speicherstick mitzubringen. \n\n\n\nAußerdem steht die kostenfrei nutzbare Digitalisierungsstation des FamilySearch Centers für alte familiengeschichtliche Dokumente und Fotos jedem Interessenten zur Verfügung. \n\n\n\nDer eigene Computer kann gerne mitgebracht werden. Ein kostenfreies WLAN ist vorhanden. \n\n\n\nDie Teilnahme an der Roland-Werkstatt für Familienforschung ist kosten- und mitgliedschaftsfrei. Jeder Interessent ist herzlich willkommen. \n\n\n\nEin großer gebührenfreier Parkplatz befindet sich direkt vor dem Gebäude. Der rechte Aufgang führt zum FamilySearch Center. Bitte folgen Sie im Gebäude der grünen Beschilderung. \n\n\n\nWir vom Roland zu Dortmund freuen uns sehr auf diese gemeinsamen Abende rund um das faszinierende Hobby der Ahnenforschung in freundlicher\, gemütlicher und familiärer Atmosphäre.
URL:https://ahnenforschung.net/veranstaltung/roland-werkstatt-fuer-familienforschung-tipps-und-hilfen-rund-um-die-ahnenforschung-roland-zu-dortmund-3/
CATEGORIES:Seminar
END:VEVENT
BEGIN:VEVENT
DTSTART;TZID=Europe/Berlin:20241125T190000
DTEND;TZID=Europe/Berlin:20241125T210000
DTSTAMP:20260425T162648
CREATED:20240322T100306Z
LAST-MODIFIED:20240322T100417Z
UID:3902-1732561200-1732568400@ahnenforschung.net
SUMMARY:Online-DNA-Genealogie-Stammtisch - Information und Inspiration für alle - Ahnenforscher Stammtisch Unna
DESCRIPTION:HNENFORSCHER STAMMTISCH UNNA \n\n\n\nOnline-Veranstaltung auf Zoom \n\n\n\nMontag\, 25. November 2024 um 19.00 Uhr. Einlass in den Zoom-Meeting-Raum ab 18.30 Uhr \n\n\n\nOnline-DNA-Genealogie-Stammtisch \n\n\n\nInformation und Inspiration für alle! \n\n\n\nModeration: Sabine Akabayov\, Axel Schwarze\, Georg Palmüller \n\n\n\nEinladung mit Teilnahmemöglichkeit: \n\n\n\n(Zugangslink wird später eingefügt!) \n\n\n\nDie DNA-Genealogie ist wichtig für die Erforschung der eigenen Familiengeschichte\, weil sie uns tiefere Einblicke in unsere Vorfahren und unsere Wurzeln ermöglicht. Sie basiert auf der Untersuchung unserer DNA\, die einzigartig für jeden von uns ist und Erbinformationen von Generation zu Generation weitergibt. \n\n\n\nGenealogische DNA-Tests können uns helfen\, Verwandte zu identifizieren\, die wir möglicherweise nicht kennen oder von denen wir nicht wussten\, dass sie existieren. Dadurch können wir neue Zweige unserer Familienlinie entdecken und unsere Verbindungen zu anderen Familienmitgliedern genauer verstehen. \n\n\n\nInsgesamt trägt die DNA-Genealogie dazu bei\, unsere familiären Verbindungen zu stärken\, uns näher an unsere Wurzeln heranzuführen und ein lebendiges Bild unserer Vorfahren zu zeichnen. Sie ermöglicht es uns\, unsere persönliche Geschichte zu entdecken und ein besseres Verständnis dafür zu entwickeln\, wie unsere Familiengeschichte uns geprägt hat. \n\n\n\nDieses weitere\, regelmäßig stattfindende Online-Angebot des Ahnenforscher Stammtisches Unna für Einsteiger und Fortgeschrittene soll auf einfache und verständliche Art und Weise \n\n\n\n– noch Unentschlossene inspirieren\, \n\n\n\n– Neuigkeiten zur DNA-Genealogie präsentieren\, \n\n\n\n– Erfahrungen und Erfolge durch die DNA-Genealogie aufzeigen\, \n\n\n\n– einen Informationsaustausch im Teilnehmerkreis ermöglichen\, \n\n\n\n– Themenwünsche aus dem Teilnehmerkreis berücksichtigen.
URL:https://ahnenforschung.net/veranstaltung/online-dna-genealogie-stammtisch-information-und-inspiration-fuer-alle-ahnenforscher-stammtisch-unna-5/
CATEGORIES:Webkonferenz
END:VEVENT
BEGIN:VEVENT
DTSTART;TZID=Europe/Berlin:20241126T180000
DTEND;TZID=Europe/Berlin:20241126T200000
DTSTAMP:20260425T162648
CREATED:20240322T100908Z
LAST-MODIFIED:20240322T100912Z
UID:3907-1732644000-1732651200@ahnenforschung.net
SUMMARY:Treffen der Familienforscher
DESCRIPTION:
URL:https://ahnenforschung.net/veranstaltung/treffen-der-familienforscher-9/
LOCATION:Historischer Verein Wegberg\, Rathausplatz 21\, 41844 Wegberg\, Deutschland
CATEGORIES:Stammtisch
END:VEVENT
END:VCALENDAR